BEGIN:VCALENDAR
VERSION:2.0
PRODID:-//Renée Sévigny - ECPv6.15.17.1//NONSGML v1.0//EN
CALSCALE:GREGORIAN
METHOD:PUBLISH
X-WR-CALNAME:Renée Sévigny
X-ORIGINAL-URL:https://reneesevigny.com
X-WR-CALDESC:Événements pour Renée Sévigny
REFRESH-INTERVAL;VALUE=DURATION:PT1H
X-Robots-Tag:noindex
X-PUBLISHED-TTL:PT1H
BEGIN:VTIMEZONE
TZID:America/Halifax
BEGIN:DAYLIGHT
TZOFFSETFROM:-0400
TZOFFSETTO:-0300
TZNAME:ADT
DTSTART:20260308T060000
END:DAYLIGHT
BEGIN:STANDARD
TZOFFSETFROM:-0300
TZOFFSETTO:-0400
TZNAME:AST
DTSTART:20261101T050000
END:STANDARD
BEGIN:DAYLIGHT
TZOFFSETFROM:-0400
TZOFFSETTO:-0300
TZNAME:ADT
DTSTART:20270314T060000
END:DAYLIGHT
BEGIN:STANDARD
TZOFFSETFROM:-0300
TZOFFSETTO:-0400
TZNAME:AST
DTSTART:20271107T050000
END:STANDARD
BEGIN:DAYLIGHT
TZOFFSETFROM:-0400
TZOFFSETTO:-0300
TZNAME:ADT
DTSTART:20280312T060000
END:DAYLIGHT
BEGIN:STANDARD
TZOFFSETFROM:-0300
TZOFFSETTO:-0400
TZNAME:AST
DTSTART:20281105T050000
END:STANDARD
END:VTIMEZONE
BEGIN:VTIMEZONE
TZID:America/New_York
BEGIN:DAYLIGHT
TZOFFSETFROM:-0500
TZOFFSETTO:-0400
TZNAME:EDT
DTSTART:20260308T070000
END:DAYLIGHT
BEGIN:STANDARD
TZOFFSETFROM:-0400
TZOFFSETTO:-0500
TZNAME:EST
DTSTART:20261101T060000
END:STANDARD
BEGIN:DAYLIGHT
TZOFFSETFROM:-0500
TZOFFSETTO:-0400
TZNAME:EDT
DTSTART:20270314T070000
END:DAYLIGHT
BEGIN:STANDARD
TZOFFSETFROM:-0400
TZOFFSETTO:-0500
TZNAME:EST
DTSTART:20271107T060000
END:STANDARD
BEGIN:DAYLIGHT
TZOFFSETFROM:-0500
TZOFFSETTO:-0400
TZNAME:EDT
DTSTART:20280312T070000
END:DAYLIGHT
BEGIN:STANDARD
TZOFFSETFROM:-0400
TZOFFSETTO:-0500
TZNAME:EST
DTSTART:20281105T060000
END:STANDARD
END:VTIMEZONE
BEGIN:VEVENT
DTSTART;TZID=America/Halifax:20270202T190000
DTEND;TZID=America/Halifax:20270202T200000
DTSTAMP:20260421T122034
CREATED:20260119T194647Z
LAST-MODIFIED:20260119T213226Z
UID:10001607-1801594800-1801598400@reneesevigny.com
SUMMARY:Méditation guidée avec Renée Sévigny sur Zoom
DESCRIPTION:Méditation guidée avec Renée\nUn rendez-vous hebdomadaire pour se retrouver\nJe vous invite chaleureusement à participer à une séance de méditation chaque mardi soir à 19 h.\n\nLa méditation n’est pas une compétence à acquérir\, mais un état que vous connaissez déjà : celui de témoin\, présent en vous dès votre premier souffle. Je vous invite à plonger au cœur de votre être pour retrouver vos souvenirs enfouis\, toucher votre essence pure et vous libérer des doctrines qui vous habitent. Si l’illumination est à portée de main\, l’essentiel réside dans le voyage vers soi. \nChaque semaine\, je vous accompagnerai en direct lors d’une séance de méditation guidée. Après avoir goûté à la profondeur du silence et à cet état de suspension sacré\, nous conclurons par un temps de parole et de partage. Retrouvons ensemble cet équilibre.
URL:https://reneesevigny.com/event/meditation-guidee-avec-renee-sevigny-sur-zoom-2/2027-02-02/
LOCATION:ZOOM
CATEGORIES:Méditation
ATTACH;FMTTYPE=image/jpeg:https://reneesevigny.com/wp-content/uploads/2025/10/goddesses-9869450_1280.jpg
ORGANIZER;CN="Renee Sevigny Medium Clairvoyante":MAILTO:info@reneesevigny.com
END:VEVENT
BEGIN:VEVENT
DTSTART;TZID=America/Halifax:20270209T190000
DTEND;TZID=America/Halifax:20270209T200000
DTSTAMP:20260421T122034
CREATED:20260119T194647Z
LAST-MODIFIED:20260119T213226Z
UID:10001608-1802199600-1802203200@reneesevigny.com
SUMMARY:Méditation guidée avec Renée Sévigny sur Zoom
DESCRIPTION:Méditation guidée avec Renée\nUn rendez-vous hebdomadaire pour se retrouver\nJe vous invite chaleureusement à participer à une séance de méditation chaque mardi soir à 19 h.\n\nLa méditation n’est pas une compétence à acquérir\, mais un état que vous connaissez déjà : celui de témoin\, présent en vous dès votre premier souffle. Je vous invite à plonger au cœur de votre être pour retrouver vos souvenirs enfouis\, toucher votre essence pure et vous libérer des doctrines qui vous habitent. Si l’illumination est à portée de main\, l’essentiel réside dans le voyage vers soi. \nChaque semaine\, je vous accompagnerai en direct lors d’une séance de méditation guidée. Après avoir goûté à la profondeur du silence et à cet état de suspension sacré\, nous conclurons par un temps de parole et de partage. Retrouvons ensemble cet équilibre.
URL:https://reneesevigny.com/event/meditation-guidee-avec-renee-sevigny-sur-zoom-2/2027-02-09/
LOCATION:ZOOM
CATEGORIES:Méditation
ATTACH;FMTTYPE=image/jpeg:https://reneesevigny.com/wp-content/uploads/2025/10/goddesses-9869450_1280.jpg
ORGANIZER;CN="Renee Sevigny Medium Clairvoyante":MAILTO:info@reneesevigny.com
END:VEVENT
BEGIN:VEVENT
DTSTART;TZID=America/New_York:20270210T130000
DTEND;TZID=America/New_York:20270210T140000
DTSTAMP:20260421T122034
CREATED:20251214T210328Z
LAST-MODIFIED:20260119T221429Z
UID:10001841-1802264400-1802268000@reneesevigny.com
SUMMARY:Propos du mercredi
DESCRIPTION:À Chaque nouvelle et pleine lune\, le mercredi précédent ou suivant à 13 heures\, je ferai une vidéo en direct sur ma page  YouTube – https://www.youtube.com/@reneesevigny \nBienvenue à tous\,\nJ’espère que vous serez nombreux à me laisser des commentaires sur Facebook et YouTube.\nDe retour le 28.
URL:https://reneesevigny.com/event/propos-du-mercredi/2027-02-10/
LOCATION:YouTube
CATEGORIES:Propos du mercredi
ATTACH;FMTTYPE=image/jpeg:https://reneesevigny.com/wp-content/uploads/2025/10/493990279_1240596014740736_6828849181878443476_n.jpg
ORGANIZER;CN="Renee Sevigny Medium Clairvoyante":MAILTO:info@reneesevigny.com
END:VEVENT
BEGIN:VEVENT
DTSTART;TZID=America/Halifax:20270216T190000
DTEND;TZID=America/Halifax:20270216T200000
DTSTAMP:20260421T122034
CREATED:20260119T194647Z
LAST-MODIFIED:20260119T213226Z
UID:10001609-1802804400-1802808000@reneesevigny.com
SUMMARY:Méditation guidée avec Renée Sévigny sur Zoom
DESCRIPTION:Méditation guidée avec Renée\nUn rendez-vous hebdomadaire pour se retrouver\nJe vous invite chaleureusement à participer à une séance de méditation chaque mardi soir à 19 h.\n\nLa méditation n’est pas une compétence à acquérir\, mais un état que vous connaissez déjà : celui de témoin\, présent en vous dès votre premier souffle. Je vous invite à plonger au cœur de votre être pour retrouver vos souvenirs enfouis\, toucher votre essence pure et vous libérer des doctrines qui vous habitent. Si l’illumination est à portée de main\, l’essentiel réside dans le voyage vers soi. \nChaque semaine\, je vous accompagnerai en direct lors d’une séance de méditation guidée. Après avoir goûté à la profondeur du silence et à cet état de suspension sacré\, nous conclurons par un temps de parole et de partage. Retrouvons ensemble cet équilibre.
URL:https://reneesevigny.com/event/meditation-guidee-avec-renee-sevigny-sur-zoom-2/2027-02-16/
LOCATION:ZOOM
CATEGORIES:Méditation
ATTACH;FMTTYPE=image/jpeg:https://reneesevigny.com/wp-content/uploads/2025/10/goddesses-9869450_1280.jpg
ORGANIZER;CN="Renee Sevigny Medium Clairvoyante":MAILTO:info@reneesevigny.com
END:VEVENT
BEGIN:VEVENT
DTSTART;TZID=America/Halifax:20270223T190000
DTEND;TZID=America/Halifax:20270223T200000
DTSTAMP:20260421T122034
CREATED:20260119T194647Z
LAST-MODIFIED:20260119T213226Z
UID:10001610-1803409200-1803412800@reneesevigny.com
SUMMARY:Méditation guidée avec Renée Sévigny sur Zoom
DESCRIPTION:Méditation guidée avec Renée\nUn rendez-vous hebdomadaire pour se retrouver\nJe vous invite chaleureusement à participer à une séance de méditation chaque mardi soir à 19 h.\n\nLa méditation n’est pas une compétence à acquérir\, mais un état que vous connaissez déjà : celui de témoin\, présent en vous dès votre premier souffle. Je vous invite à plonger au cœur de votre être pour retrouver vos souvenirs enfouis\, toucher votre essence pure et vous libérer des doctrines qui vous habitent. Si l’illumination est à portée de main\, l’essentiel réside dans le voyage vers soi. \nChaque semaine\, je vous accompagnerai en direct lors d’une séance de méditation guidée. Après avoir goûté à la profondeur du silence et à cet état de suspension sacré\, nous conclurons par un temps de parole et de partage. Retrouvons ensemble cet équilibre.
URL:https://reneesevigny.com/event/meditation-guidee-avec-renee-sevigny-sur-zoom-2/2027-02-23/
LOCATION:ZOOM
CATEGORIES:Méditation
ATTACH;FMTTYPE=image/jpeg:https://reneesevigny.com/wp-content/uploads/2025/10/goddesses-9869450_1280.jpg
ORGANIZER;CN="Renee Sevigny Medium Clairvoyante":MAILTO:info@reneesevigny.com
END:VEVENT
BEGIN:VEVENT
DTSTART;TZID=America/New_York:20270224T130000
DTEND;TZID=America/New_York:20270224T140000
DTSTAMP:20260421T122034
CREATED:20251214T210328Z
LAST-MODIFIED:20260119T221429Z
UID:10001842-1803474000-1803477600@reneesevigny.com
SUMMARY:Propos du mercredi
DESCRIPTION:À Chaque nouvelle et pleine lune\, le mercredi précédent ou suivant à 13 heures\, je ferai une vidéo en direct sur ma page  YouTube – https://www.youtube.com/@reneesevigny \nBienvenue à tous\,\nJ’espère que vous serez nombreux à me laisser des commentaires sur Facebook et YouTube.\nDe retour le 28.
URL:https://reneesevigny.com/event/propos-du-mercredi/2027-02-24/
LOCATION:YouTube
CATEGORIES:Propos du mercredi
ATTACH;FMTTYPE=image/jpeg:https://reneesevigny.com/wp-content/uploads/2025/10/493990279_1240596014740736_6828849181878443476_n.jpg
ORGANIZER;CN="Renee Sevigny Medium Clairvoyante":MAILTO:info@reneesevigny.com
END:VEVENT
END:VCALENDAR