BEGIN:VCALENDAR
VERSION:2.0
PRODID:-//Renée Sévigny - ECPv6.15.17.1//NONSGML v1.0//EN
CALSCALE:GREGORIAN
METHOD:PUBLISH
X-WR-CALNAME:Renée Sévigny
X-ORIGINAL-URL:https://reneesevigny.com
X-WR-CALDESC:Événements pour Renée Sévigny
REFRESH-INTERVAL;VALUE=DURATION:PT1H
X-Robots-Tag:noindex
X-PUBLISHED-TTL:PT1H
BEGIN:VTIMEZONE
TZID:America/New_York
BEGIN:DAYLIGHT
TZOFFSETFROM:-0500
TZOFFSETTO:-0400
TZNAME:EDT
DTSTART:20270314T070000
END:DAYLIGHT
BEGIN:STANDARD
TZOFFSETFROM:-0400
TZOFFSETTO:-0500
TZNAME:EST
DTSTART:20271107T060000
END:STANDARD
BEGIN:DAYLIGHT
TZOFFSETFROM:-0500
TZOFFSETTO:-0400
TZNAME:EDT
DTSTART:20280312T070000
END:DAYLIGHT
BEGIN:STANDARD
TZOFFSETFROM:-0400
TZOFFSETTO:-0500
TZNAME:EST
DTSTART:20281105T060000
END:STANDARD
BEGIN:DAYLIGHT
TZOFFSETFROM:-0500
TZOFFSETTO:-0400
TZNAME:EDT
DTSTART:20290311T070000
END:DAYLIGHT
BEGIN:STANDARD
TZOFFSETFROM:-0400
TZOFFSETTO:-0500
TZNAME:EST
DTSTART:20291104T060000
END:STANDARD
BEGIN:DAYLIGHT
TZOFFSETFROM:-0500
TZOFFSETTO:-0400
TZNAME:EDT
DTSTART:20300310T070000
END:DAYLIGHT
BEGIN:STANDARD
TZOFFSETFROM:-0400
TZOFFSETTO:-0500
TZNAME:EST
DTSTART:20301103T060000
END:STANDARD
END:VTIMEZONE
BEGIN:VEVENT
DTSTART;TZID=America/New_York:20280809T130000
DTEND;TZID=America/New_York:20280809T140000
DTSTAMP:20260420T154646
CREATED:20251214T210328Z
LAST-MODIFIED:20260119T221429Z
UID:10001880-1849438800-1849442400@reneesevigny.com
SUMMARY:Propos du mercredi
DESCRIPTION:À Chaque nouvelle et pleine lune\, le mercredi précédent ou suivant à 13 heures\, je ferai une vidéo en direct sur ma page  YouTube – https://www.youtube.com/@reneesevigny \nBienvenue à tous\,\nJ’espère que vous serez nombreux à me laisser des commentaires sur Facebook et YouTube.\nDe retour le 28.
URL:https://reneesevigny.com/event/propos-du-mercredi/2028-08-09/
LOCATION:YouTube
CATEGORIES:Propos du mercredi
ATTACH;FMTTYPE=image/jpeg:https://reneesevigny.com/wp-content/uploads/2025/10/493990279_1240596014740736_6828849181878443476_n.jpg
ORGANIZER;CN="Renee Sevigny Medium Clairvoyante":MAILTO:info@reneesevigny.com
END:VEVENT
BEGIN:VEVENT
DTSTART;TZID=America/New_York:20280823T130000
DTEND;TZID=America/New_York:20280823T140000
DTSTAMP:20260420T154646
CREATED:20251214T210328Z
LAST-MODIFIED:20260119T221429Z
UID:10001881-1850648400-1850652000@reneesevigny.com
SUMMARY:Propos du mercredi
DESCRIPTION:À Chaque nouvelle et pleine lune\, le mercredi précédent ou suivant à 13 heures\, je ferai une vidéo en direct sur ma page  YouTube – https://www.youtube.com/@reneesevigny \nBienvenue à tous\,\nJ’espère que vous serez nombreux à me laisser des commentaires sur Facebook et YouTube.\nDe retour le 28.
URL:https://reneesevigny.com/event/propos-du-mercredi/2028-08-23/
LOCATION:YouTube
CATEGORIES:Propos du mercredi
ATTACH;FMTTYPE=image/jpeg:https://reneesevigny.com/wp-content/uploads/2025/10/493990279_1240596014740736_6828849181878443476_n.jpg
ORGANIZER;CN="Renee Sevigny Medium Clairvoyante":MAILTO:info@reneesevigny.com
END:VEVENT
BEGIN:VEVENT
DTSTART;TZID=America/New_York:20280906T130000
DTEND;TZID=America/New_York:20280906T140000
DTSTAMP:20260420T154646
CREATED:20251214T210328Z
LAST-MODIFIED:20260119T221429Z
UID:10001882-1851858000-1851861600@reneesevigny.com
SUMMARY:Propos du mercredi
DESCRIPTION:À Chaque nouvelle et pleine lune\, le mercredi précédent ou suivant à 13 heures\, je ferai une vidéo en direct sur ma page  YouTube – https://www.youtube.com/@reneesevigny \nBienvenue à tous\,\nJ’espère que vous serez nombreux à me laisser des commentaires sur Facebook et YouTube.\nDe retour le 28.
URL:https://reneesevigny.com/event/propos-du-mercredi/2028-09-06/
LOCATION:YouTube
CATEGORIES:Propos du mercredi
ATTACH;FMTTYPE=image/jpeg:https://reneesevigny.com/wp-content/uploads/2025/10/493990279_1240596014740736_6828849181878443476_n.jpg
ORGANIZER;CN="Renee Sevigny Medium Clairvoyante":MAILTO:info@reneesevigny.com
END:VEVENT
BEGIN:VEVENT
DTSTART;TZID=America/New_York:20280920T130000
DTEND;TZID=America/New_York:20280920T140000
DTSTAMP:20260420T154646
CREATED:20251214T210328Z
LAST-MODIFIED:20260119T221429Z
UID:10001883-1853067600-1853071200@reneesevigny.com
SUMMARY:Propos du mercredi
DESCRIPTION:À Chaque nouvelle et pleine lune\, le mercredi précédent ou suivant à 13 heures\, je ferai une vidéo en direct sur ma page  YouTube – https://www.youtube.com/@reneesevigny \nBienvenue à tous\,\nJ’espère que vous serez nombreux à me laisser des commentaires sur Facebook et YouTube.\nDe retour le 28.
URL:https://reneesevigny.com/event/propos-du-mercredi/2028-09-20/
LOCATION:YouTube
CATEGORIES:Propos du mercredi
ATTACH;FMTTYPE=image/jpeg:https://reneesevigny.com/wp-content/uploads/2025/10/493990279_1240596014740736_6828849181878443476_n.jpg
ORGANIZER;CN="Renee Sevigny Medium Clairvoyante":MAILTO:info@reneesevigny.com
END:VEVENT
BEGIN:VEVENT
DTSTART;TZID=America/New_York:20281004T130000
DTEND;TZID=America/New_York:20281004T140000
DTSTAMP:20260420T154646
CREATED:20251214T210328Z
LAST-MODIFIED:20260119T221429Z
UID:10001884-1854277200-1854280800@reneesevigny.com
SUMMARY:Propos du mercredi
DESCRIPTION:À Chaque nouvelle et pleine lune\, le mercredi précédent ou suivant à 13 heures\, je ferai une vidéo en direct sur ma page  YouTube – https://www.youtube.com/@reneesevigny \nBienvenue à tous\,\nJ’espère que vous serez nombreux à me laisser des commentaires sur Facebook et YouTube.\nDe retour le 28.
URL:https://reneesevigny.com/event/propos-du-mercredi/2028-10-04/
LOCATION:YouTube
CATEGORIES:Propos du mercredi
ATTACH;FMTTYPE=image/jpeg:https://reneesevigny.com/wp-content/uploads/2025/10/493990279_1240596014740736_6828849181878443476_n.jpg
ORGANIZER;CN="Renee Sevigny Medium Clairvoyante":MAILTO:info@reneesevigny.com
END:VEVENT
BEGIN:VEVENT
DTSTART;TZID=America/New_York:20281018T130000
DTEND;TZID=America/New_York:20281018T140000
DTSTAMP:20260420T154646
CREATED:20251214T210328Z
LAST-MODIFIED:20260119T221429Z
UID:10001885-1855486800-1855490400@reneesevigny.com
SUMMARY:Propos du mercredi
DESCRIPTION:À Chaque nouvelle et pleine lune\, le mercredi précédent ou suivant à 13 heures\, je ferai une vidéo en direct sur ma page  YouTube – https://www.youtube.com/@reneesevigny \nBienvenue à tous\,\nJ’espère que vous serez nombreux à me laisser des commentaires sur Facebook et YouTube.\nDe retour le 28.
URL:https://reneesevigny.com/event/propos-du-mercredi/2028-10-18/
LOCATION:YouTube
CATEGORIES:Propos du mercredi
ATTACH;FMTTYPE=image/jpeg:https://reneesevigny.com/wp-content/uploads/2025/10/493990279_1240596014740736_6828849181878443476_n.jpg
ORGANIZER;CN="Renee Sevigny Medium Clairvoyante":MAILTO:info@reneesevigny.com
END:VEVENT
BEGIN:VEVENT
DTSTART;TZID=America/New_York:20281101T130000
DTEND;TZID=America/New_York:20281101T140000
DTSTAMP:20260420T154646
CREATED:20251214T210328Z
LAST-MODIFIED:20260119T221429Z
UID:10001886-1856696400-1856700000@reneesevigny.com
SUMMARY:Propos du mercredi
DESCRIPTION:À Chaque nouvelle et pleine lune\, le mercredi précédent ou suivant à 13 heures\, je ferai une vidéo en direct sur ma page  YouTube – https://www.youtube.com/@reneesevigny \nBienvenue à tous\,\nJ’espère que vous serez nombreux à me laisser des commentaires sur Facebook et YouTube.\nDe retour le 28.
URL:https://reneesevigny.com/event/propos-du-mercredi/2028-11-01/
LOCATION:YouTube
CATEGORIES:Propos du mercredi
ATTACH;FMTTYPE=image/jpeg:https://reneesevigny.com/wp-content/uploads/2025/10/493990279_1240596014740736_6828849181878443476_n.jpg
ORGANIZER;CN="Renee Sevigny Medium Clairvoyante":MAILTO:info@reneesevigny.com
END:VEVENT
BEGIN:VEVENT
DTSTART;TZID=America/New_York:20281115T130000
DTEND;TZID=America/New_York:20281115T140000
DTSTAMP:20260420T154646
CREATED:20251214T210328Z
LAST-MODIFIED:20260119T221429Z
UID:10001887-1857906000-1857909600@reneesevigny.com
SUMMARY:Propos du mercredi
DESCRIPTION:À Chaque nouvelle et pleine lune\, le mercredi précédent ou suivant à 13 heures\, je ferai une vidéo en direct sur ma page  YouTube – https://www.youtube.com/@reneesevigny \nBienvenue à tous\,\nJ’espère que vous serez nombreux à me laisser des commentaires sur Facebook et YouTube.\nDe retour le 28.
URL:https://reneesevigny.com/event/propos-du-mercredi/2028-11-15/
LOCATION:YouTube
CATEGORIES:Propos du mercredi
ATTACH;FMTTYPE=image/jpeg:https://reneesevigny.com/wp-content/uploads/2025/10/493990279_1240596014740736_6828849181878443476_n.jpg
ORGANIZER;CN="Renee Sevigny Medium Clairvoyante":MAILTO:info@reneesevigny.com
END:VEVENT
BEGIN:VEVENT
DTSTART;TZID=America/New_York:20281129T130000
DTEND;TZID=America/New_York:20281129T140000
DTSTAMP:20260420T154646
CREATED:20251214T210328Z
LAST-MODIFIED:20260119T221429Z
UID:10001888-1859115600-1859119200@reneesevigny.com
SUMMARY:Propos du mercredi
DESCRIPTION:À Chaque nouvelle et pleine lune\, le mercredi précédent ou suivant à 13 heures\, je ferai une vidéo en direct sur ma page  YouTube – https://www.youtube.com/@reneesevigny \nBienvenue à tous\,\nJ’espère que vous serez nombreux à me laisser des commentaires sur Facebook et YouTube.\nDe retour le 28.
URL:https://reneesevigny.com/event/propos-du-mercredi/2028-11-29/
LOCATION:YouTube
CATEGORIES:Propos du mercredi
ATTACH;FMTTYPE=image/jpeg:https://reneesevigny.com/wp-content/uploads/2025/10/493990279_1240596014740736_6828849181878443476_n.jpg
ORGANIZER;CN="Renee Sevigny Medium Clairvoyante":MAILTO:info@reneesevigny.com
END:VEVENT
BEGIN:VEVENT
DTSTART;TZID=America/New_York:20281213T130000
DTEND;TZID=America/New_York:20281213T140000
DTSTAMP:20260420T154646
CREATED:20251214T210328Z
LAST-MODIFIED:20260119T221429Z
UID:10001889-1860325200-1860328800@reneesevigny.com
SUMMARY:Propos du mercredi
DESCRIPTION:À Chaque nouvelle et pleine lune\, le mercredi précédent ou suivant à 13 heures\, je ferai une vidéo en direct sur ma page  YouTube – https://www.youtube.com/@reneesevigny \nBienvenue à tous\,\nJ’espère que vous serez nombreux à me laisser des commentaires sur Facebook et YouTube.\nDe retour le 28.
URL:https://reneesevigny.com/event/propos-du-mercredi/2028-12-13/
LOCATION:YouTube
CATEGORIES:Propos du mercredi
ATTACH;FMTTYPE=image/jpeg:https://reneesevigny.com/wp-content/uploads/2025/10/493990279_1240596014740736_6828849181878443476_n.jpg
ORGANIZER;CN="Renee Sevigny Medium Clairvoyante":MAILTO:info@reneesevigny.com
END:VEVENT
BEGIN:VEVENT
DTSTART;TZID=America/New_York:20281227T130000
DTEND;TZID=America/New_York:20281227T140000
DTSTAMP:20260420T154646
CREATED:20251214T210328Z
LAST-MODIFIED:20260119T221429Z
UID:10001890-1861534800-1861538400@reneesevigny.com
SUMMARY:Propos du mercredi
DESCRIPTION:À Chaque nouvelle et pleine lune\, le mercredi précédent ou suivant à 13 heures\, je ferai une vidéo en direct sur ma page  YouTube – https://www.youtube.com/@reneesevigny \nBienvenue à tous\,\nJ’espère que vous serez nombreux à me laisser des commentaires sur Facebook et YouTube.\nDe retour le 28.
URL:https://reneesevigny.com/event/propos-du-mercredi/2028-12-27/
LOCATION:YouTube
CATEGORIES:Propos du mercredi
ATTACH;FMTTYPE=image/jpeg:https://reneesevigny.com/wp-content/uploads/2025/10/493990279_1240596014740736_6828849181878443476_n.jpg
ORGANIZER;CN="Renee Sevigny Medium Clairvoyante":MAILTO:info@reneesevigny.com
END:VEVENT
BEGIN:VEVENT
DTSTART;TZID=America/New_York:20290110T130000
DTEND;TZID=America/New_York:20290110T140000
DTSTAMP:20260420T154646
CREATED:20251214T210328Z
LAST-MODIFIED:20260119T221429Z
UID:10001891-1862744400-1862748000@reneesevigny.com
SUMMARY:Propos du mercredi
DESCRIPTION:À Chaque nouvelle et pleine lune\, le mercredi précédent ou suivant à 13 heures\, je ferai une vidéo en direct sur ma page  YouTube – https://www.youtube.com/@reneesevigny \nBienvenue à tous\,\nJ’espère que vous serez nombreux à me laisser des commentaires sur Facebook et YouTube.\nDe retour le 28.
URL:https://reneesevigny.com/event/propos-du-mercredi/2029-01-10/
LOCATION:YouTube
CATEGORIES:Propos du mercredi
ATTACH;FMTTYPE=image/jpeg:https://reneesevigny.com/wp-content/uploads/2025/10/493990279_1240596014740736_6828849181878443476_n.jpg
ORGANIZER;CN="Renee Sevigny Medium Clairvoyante":MAILTO:info@reneesevigny.com
END:VEVENT
BEGIN:VEVENT
DTSTART;TZID=America/New_York:20290124T130000
DTEND;TZID=America/New_York:20290124T140000
DTSTAMP:20260420T154646
CREATED:20251214T210328Z
LAST-MODIFIED:20260119T221429Z
UID:10001892-1863954000-1863957600@reneesevigny.com
SUMMARY:Propos du mercredi
DESCRIPTION:À Chaque nouvelle et pleine lune\, le mercredi précédent ou suivant à 13 heures\, je ferai une vidéo en direct sur ma page  YouTube – https://www.youtube.com/@reneesevigny \nBienvenue à tous\,\nJ’espère que vous serez nombreux à me laisser des commentaires sur Facebook et YouTube.\nDe retour le 28.
URL:https://reneesevigny.com/event/propos-du-mercredi/2029-01-24/
LOCATION:YouTube
CATEGORIES:Propos du mercredi
ATTACH;FMTTYPE=image/jpeg:https://reneesevigny.com/wp-content/uploads/2025/10/493990279_1240596014740736_6828849181878443476_n.jpg
ORGANIZER;CN="Renee Sevigny Medium Clairvoyante":MAILTO:info@reneesevigny.com
END:VEVENT
BEGIN:VEVENT
DTSTART;TZID=America/New_York:20290207T130000
DTEND;TZID=America/New_York:20290207T140000
DTSTAMP:20260420T154646
CREATED:20251214T210328Z
LAST-MODIFIED:20260119T221429Z
UID:10001893-1865163600-1865167200@reneesevigny.com
SUMMARY:Propos du mercredi
DESCRIPTION:À Chaque nouvelle et pleine lune\, le mercredi précédent ou suivant à 13 heures\, je ferai une vidéo en direct sur ma page  YouTube – https://www.youtube.com/@reneesevigny \nBienvenue à tous\,\nJ’espère que vous serez nombreux à me laisser des commentaires sur Facebook et YouTube.\nDe retour le 28.
URL:https://reneesevigny.com/event/propos-du-mercredi/2029-02-07/
LOCATION:YouTube
CATEGORIES:Propos du mercredi
ATTACH;FMTTYPE=image/jpeg:https://reneesevigny.com/wp-content/uploads/2025/10/493990279_1240596014740736_6828849181878443476_n.jpg
ORGANIZER;CN="Renee Sevigny Medium Clairvoyante":MAILTO:info@reneesevigny.com
END:VEVENT
BEGIN:VEVENT
DTSTART;TZID=America/New_York:20290221T130000
DTEND;TZID=America/New_York:20290221T140000
DTSTAMP:20260420T154646
CREATED:20251214T210328Z
LAST-MODIFIED:20260119T221429Z
UID:10001894-1866373200-1866376800@reneesevigny.com
SUMMARY:Propos du mercredi
DESCRIPTION:À Chaque nouvelle et pleine lune\, le mercredi précédent ou suivant à 13 heures\, je ferai une vidéo en direct sur ma page  YouTube – https://www.youtube.com/@reneesevigny \nBienvenue à tous\,\nJ’espère que vous serez nombreux à me laisser des commentaires sur Facebook et YouTube.\nDe retour le 28.
URL:https://reneesevigny.com/event/propos-du-mercredi/2029-02-21/
LOCATION:YouTube
CATEGORIES:Propos du mercredi
ATTACH;FMTTYPE=image/jpeg:https://reneesevigny.com/wp-content/uploads/2025/10/493990279_1240596014740736_6828849181878443476_n.jpg
ORGANIZER;CN="Renee Sevigny Medium Clairvoyante":MAILTO:info@reneesevigny.com
END:VEVENT
BEGIN:VEVENT
DTSTART;TZID=America/New_York:20290307T130000
DTEND;TZID=America/New_York:20290307T140000
DTSTAMP:20260420T154646
CREATED:20251214T210328Z
LAST-MODIFIED:20260119T221429Z
UID:10001895-1867582800-1867586400@reneesevigny.com
SUMMARY:Propos du mercredi
DESCRIPTION:À Chaque nouvelle et pleine lune\, le mercredi précédent ou suivant à 13 heures\, je ferai une vidéo en direct sur ma page  YouTube – https://www.youtube.com/@reneesevigny \nBienvenue à tous\,\nJ’espère que vous serez nombreux à me laisser des commentaires sur Facebook et YouTube.\nDe retour le 28.
URL:https://reneesevigny.com/event/propos-du-mercredi/2029-03-07/
LOCATION:YouTube
CATEGORIES:Propos du mercredi
ATTACH;FMTTYPE=image/jpeg:https://reneesevigny.com/wp-content/uploads/2025/10/493990279_1240596014740736_6828849181878443476_n.jpg
ORGANIZER;CN="Renee Sevigny Medium Clairvoyante":MAILTO:info@reneesevigny.com
END:VEVENT
BEGIN:VEVENT
DTSTART;TZID=America/New_York:20290321T130000
DTEND;TZID=America/New_York:20290321T140000
DTSTAMP:20260420T154646
CREATED:20251214T210328Z
LAST-MODIFIED:20260119T221429Z
UID:10001896-1868792400-1868796000@reneesevigny.com
SUMMARY:Propos du mercredi
DESCRIPTION:À Chaque nouvelle et pleine lune\, le mercredi précédent ou suivant à 13 heures\, je ferai une vidéo en direct sur ma page  YouTube – https://www.youtube.com/@reneesevigny \nBienvenue à tous\,\nJ’espère que vous serez nombreux à me laisser des commentaires sur Facebook et YouTube.\nDe retour le 28.
URL:https://reneesevigny.com/event/propos-du-mercredi/2029-03-21/
LOCATION:YouTube
CATEGORIES:Propos du mercredi
ATTACH;FMTTYPE=image/jpeg:https://reneesevigny.com/wp-content/uploads/2025/10/493990279_1240596014740736_6828849181878443476_n.jpg
ORGANIZER;CN="Renee Sevigny Medium Clairvoyante":MAILTO:info@reneesevigny.com
END:VEVENT
BEGIN:VEVENT
DTSTART;TZID=America/New_York:20290404T130000
DTEND;TZID=America/New_York:20290404T140000
DTSTAMP:20260420T154646
CREATED:20251214T210328Z
LAST-MODIFIED:20260119T221429Z
UID:10001897-1870002000-1870005600@reneesevigny.com
SUMMARY:Propos du mercredi
DESCRIPTION:À Chaque nouvelle et pleine lune\, le mercredi précédent ou suivant à 13 heures\, je ferai une vidéo en direct sur ma page  YouTube – https://www.youtube.com/@reneesevigny \nBienvenue à tous\,\nJ’espère que vous serez nombreux à me laisser des commentaires sur Facebook et YouTube.\nDe retour le 28.
URL:https://reneesevigny.com/event/propos-du-mercredi/2029-04-04/
LOCATION:YouTube
CATEGORIES:Propos du mercredi
ATTACH;FMTTYPE=image/jpeg:https://reneesevigny.com/wp-content/uploads/2025/10/493990279_1240596014740736_6828849181878443476_n.jpg
ORGANIZER;CN="Renee Sevigny Medium Clairvoyante":MAILTO:info@reneesevigny.com
END:VEVENT
BEGIN:VEVENT
DTSTART;TZID=America/New_York:20290418T130000
DTEND;TZID=America/New_York:20290418T140000
DTSTAMP:20260420T154646
CREATED:20251214T210328Z
LAST-MODIFIED:20260119T221429Z
UID:10001898-1871211600-1871215200@reneesevigny.com
SUMMARY:Propos du mercredi
DESCRIPTION:À Chaque nouvelle et pleine lune\, le mercredi précédent ou suivant à 13 heures\, je ferai une vidéo en direct sur ma page  YouTube – https://www.youtube.com/@reneesevigny \nBienvenue à tous\,\nJ’espère que vous serez nombreux à me laisser des commentaires sur Facebook et YouTube.\nDe retour le 28.
URL:https://reneesevigny.com/event/propos-du-mercredi/2029-04-18/
LOCATION:YouTube
CATEGORIES:Propos du mercredi
ATTACH;FMTTYPE=image/jpeg:https://reneesevigny.com/wp-content/uploads/2025/10/493990279_1240596014740736_6828849181878443476_n.jpg
ORGANIZER;CN="Renee Sevigny Medium Clairvoyante":MAILTO:info@reneesevigny.com
END:VEVENT
BEGIN:VEVENT
DTSTART;TZID=America/New_York:20290502T130000
DTEND;TZID=America/New_York:20290502T140000
DTSTAMP:20260420T154646
CREATED:20251214T210328Z
LAST-MODIFIED:20260119T221429Z
UID:10001899-1872421200-1872424800@reneesevigny.com
SUMMARY:Propos du mercredi
DESCRIPTION:À Chaque nouvelle et pleine lune\, le mercredi précédent ou suivant à 13 heures\, je ferai une vidéo en direct sur ma page  YouTube – https://www.youtube.com/@reneesevigny \nBienvenue à tous\,\nJ’espère que vous serez nombreux à me laisser des commentaires sur Facebook et YouTube.\nDe retour le 28.
URL:https://reneesevigny.com/event/propos-du-mercredi/2029-05-02/
LOCATION:YouTube
CATEGORIES:Propos du mercredi
ATTACH;FMTTYPE=image/jpeg:https://reneesevigny.com/wp-content/uploads/2025/10/493990279_1240596014740736_6828849181878443476_n.jpg
ORGANIZER;CN="Renee Sevigny Medium Clairvoyante":MAILTO:info@reneesevigny.com
END:VEVENT
BEGIN:VEVENT
DTSTART;TZID=America/New_York:20290516T130000
DTEND;TZID=America/New_York:20290516T140000
DTSTAMP:20260420T154646
CREATED:20251214T210328Z
LAST-MODIFIED:20260119T221429Z
UID:10001900-1873630800-1873634400@reneesevigny.com
SUMMARY:Propos du mercredi
DESCRIPTION:À Chaque nouvelle et pleine lune\, le mercredi précédent ou suivant à 13 heures\, je ferai une vidéo en direct sur ma page  YouTube – https://www.youtube.com/@reneesevigny \nBienvenue à tous\,\nJ’espère que vous serez nombreux à me laisser des commentaires sur Facebook et YouTube.\nDe retour le 28.
URL:https://reneesevigny.com/event/propos-du-mercredi/2029-05-16/
LOCATION:YouTube
CATEGORIES:Propos du mercredi
ATTACH;FMTTYPE=image/jpeg:https://reneesevigny.com/wp-content/uploads/2025/10/493990279_1240596014740736_6828849181878443476_n.jpg
ORGANIZER;CN="Renee Sevigny Medium Clairvoyante":MAILTO:info@reneesevigny.com
END:VEVENT
BEGIN:VEVENT
DTSTART;TZID=America/New_York:20290530T130000
DTEND;TZID=America/New_York:20290530T140000
DTSTAMP:20260420T154646
CREATED:20251214T210328Z
LAST-MODIFIED:20260119T221429Z
UID:10001901-1874840400-1874844000@reneesevigny.com
SUMMARY:Propos du mercredi
DESCRIPTION:À Chaque nouvelle et pleine lune\, le mercredi précédent ou suivant à 13 heures\, je ferai une vidéo en direct sur ma page  YouTube – https://www.youtube.com/@reneesevigny \nBienvenue à tous\,\nJ’espère que vous serez nombreux à me laisser des commentaires sur Facebook et YouTube.\nDe retour le 28.
URL:https://reneesevigny.com/event/propos-du-mercredi/2029-05-30/
LOCATION:YouTube
CATEGORIES:Propos du mercredi
ATTACH;FMTTYPE=image/jpeg:https://reneesevigny.com/wp-content/uploads/2025/10/493990279_1240596014740736_6828849181878443476_n.jpg
ORGANIZER;CN="Renee Sevigny Medium Clairvoyante":MAILTO:info@reneesevigny.com
END:VEVENT
BEGIN:VEVENT
DTSTART;TZID=America/New_York:20290613T130000
DTEND;TZID=America/New_York:20290613T140000
DTSTAMP:20260420T154646
CREATED:20251214T210328Z
LAST-MODIFIED:20260119T221429Z
UID:10001902-1876050000-1876053600@reneesevigny.com
SUMMARY:Propos du mercredi
DESCRIPTION:À Chaque nouvelle et pleine lune\, le mercredi précédent ou suivant à 13 heures\, je ferai une vidéo en direct sur ma page  YouTube – https://www.youtube.com/@reneesevigny \nBienvenue à tous\,\nJ’espère que vous serez nombreux à me laisser des commentaires sur Facebook et YouTube.\nDe retour le 28.
URL:https://reneesevigny.com/event/propos-du-mercredi/2029-06-13/
LOCATION:YouTube
CATEGORIES:Propos du mercredi
ATTACH;FMTTYPE=image/jpeg:https://reneesevigny.com/wp-content/uploads/2025/10/493990279_1240596014740736_6828849181878443476_n.jpg
ORGANIZER;CN="Renee Sevigny Medium Clairvoyante":MAILTO:info@reneesevigny.com
END:VEVENT
BEGIN:VEVENT
DTSTART;TZID=America/New_York:20290627T130000
DTEND;TZID=America/New_York:20290627T140000
DTSTAMP:20260420T154646
CREATED:20251214T210328Z
LAST-MODIFIED:20260119T221429Z
UID:10001903-1877259600-1877263200@reneesevigny.com
SUMMARY:Propos du mercredi
DESCRIPTION:À Chaque nouvelle et pleine lune\, le mercredi précédent ou suivant à 13 heures\, je ferai une vidéo en direct sur ma page  YouTube – https://www.youtube.com/@reneesevigny \nBienvenue à tous\,\nJ’espère que vous serez nombreux à me laisser des commentaires sur Facebook et YouTube.\nDe retour le 28.
URL:https://reneesevigny.com/event/propos-du-mercredi/2029-06-27/
LOCATION:YouTube
CATEGORIES:Propos du mercredi
ATTACH;FMTTYPE=image/jpeg:https://reneesevigny.com/wp-content/uploads/2025/10/493990279_1240596014740736_6828849181878443476_n.jpg
ORGANIZER;CN="Renee Sevigny Medium Clairvoyante":MAILTO:info@reneesevigny.com
END:VEVENT
BEGIN:VEVENT
DTSTART;TZID=America/New_York:20290711T130000
DTEND;TZID=America/New_York:20290711T140000
DTSTAMP:20260420T154646
CREATED:20251214T210328Z
LAST-MODIFIED:20260119T221429Z
UID:10001904-1878469200-1878472800@reneesevigny.com
SUMMARY:Propos du mercredi
DESCRIPTION:À Chaque nouvelle et pleine lune\, le mercredi précédent ou suivant à 13 heures\, je ferai une vidéo en direct sur ma page  YouTube – https://www.youtube.com/@reneesevigny \nBienvenue à tous\,\nJ’espère que vous serez nombreux à me laisser des commentaires sur Facebook et YouTube.\nDe retour le 28.
URL:https://reneesevigny.com/event/propos-du-mercredi/2029-07-11/
LOCATION:YouTube
CATEGORIES:Propos du mercredi
ATTACH;FMTTYPE=image/jpeg:https://reneesevigny.com/wp-content/uploads/2025/10/493990279_1240596014740736_6828849181878443476_n.jpg
ORGANIZER;CN="Renee Sevigny Medium Clairvoyante":MAILTO:info@reneesevigny.com
END:VEVENT
BEGIN:VEVENT
DTSTART;TZID=America/New_York:20290725T130000
DTEND;TZID=America/New_York:20290725T140000
DTSTAMP:20260420T154646
CREATED:20251214T210328Z
LAST-MODIFIED:20260119T221429Z
UID:10001905-1879678800-1879682400@reneesevigny.com
SUMMARY:Propos du mercredi
DESCRIPTION:À Chaque nouvelle et pleine lune\, le mercredi précédent ou suivant à 13 heures\, je ferai une vidéo en direct sur ma page  YouTube – https://www.youtube.com/@reneesevigny \nBienvenue à tous\,\nJ’espère que vous serez nombreux à me laisser des commentaires sur Facebook et YouTube.\nDe retour le 28.
URL:https://reneesevigny.com/event/propos-du-mercredi/2029-07-25/
LOCATION:YouTube
CATEGORIES:Propos du mercredi
ATTACH;FMTTYPE=image/jpeg:https://reneesevigny.com/wp-content/uploads/2025/10/493990279_1240596014740736_6828849181878443476_n.jpg
ORGANIZER;CN="Renee Sevigny Medium Clairvoyante":MAILTO:info@reneesevigny.com
END:VEVENT
BEGIN:VEVENT
DTSTART;TZID=America/New_York:20290808T130000
DTEND;TZID=America/New_York:20290808T140000
DTSTAMP:20260420T154646
CREATED:20251214T210328Z
LAST-MODIFIED:20260119T221429Z
UID:10001906-1880888400-1880892000@reneesevigny.com
SUMMARY:Propos du mercredi
DESCRIPTION:À Chaque nouvelle et pleine lune\, le mercredi précédent ou suivant à 13 heures\, je ferai une vidéo en direct sur ma page  YouTube – https://www.youtube.com/@reneesevigny \nBienvenue à tous\,\nJ’espère que vous serez nombreux à me laisser des commentaires sur Facebook et YouTube.\nDe retour le 28.
URL:https://reneesevigny.com/event/propos-du-mercredi/2029-08-08/
LOCATION:YouTube
CATEGORIES:Propos du mercredi
ATTACH;FMTTYPE=image/jpeg:https://reneesevigny.com/wp-content/uploads/2025/10/493990279_1240596014740736_6828849181878443476_n.jpg
ORGANIZER;CN="Renee Sevigny Medium Clairvoyante":MAILTO:info@reneesevigny.com
END:VEVENT
BEGIN:VEVENT
DTSTART;TZID=America/New_York:20290822T130000
DTEND;TZID=America/New_York:20290822T140000
DTSTAMP:20260420T154646
CREATED:20251214T210328Z
LAST-MODIFIED:20260119T221429Z
UID:10001907-1882098000-1882101600@reneesevigny.com
SUMMARY:Propos du mercredi
DESCRIPTION:À Chaque nouvelle et pleine lune\, le mercredi précédent ou suivant à 13 heures\, je ferai une vidéo en direct sur ma page  YouTube – https://www.youtube.com/@reneesevigny \nBienvenue à tous\,\nJ’espère que vous serez nombreux à me laisser des commentaires sur Facebook et YouTube.\nDe retour le 28.
URL:https://reneesevigny.com/event/propos-du-mercredi/2029-08-22/
LOCATION:YouTube
CATEGORIES:Propos du mercredi
ATTACH;FMTTYPE=image/jpeg:https://reneesevigny.com/wp-content/uploads/2025/10/493990279_1240596014740736_6828849181878443476_n.jpg
ORGANIZER;CN="Renee Sevigny Medium Clairvoyante":MAILTO:info@reneesevigny.com
END:VEVENT
BEGIN:VEVENT
DTSTART;TZID=America/New_York:20290905T130000
DTEND;TZID=America/New_York:20290905T140000
DTSTAMP:20260420T154646
CREATED:20251214T210328Z
LAST-MODIFIED:20260119T221429Z
UID:10001908-1883307600-1883311200@reneesevigny.com
SUMMARY:Propos du mercredi
DESCRIPTION:À Chaque nouvelle et pleine lune\, le mercredi précédent ou suivant à 13 heures\, je ferai une vidéo en direct sur ma page  YouTube – https://www.youtube.com/@reneesevigny \nBienvenue à tous\,\nJ’espère que vous serez nombreux à me laisser des commentaires sur Facebook et YouTube.\nDe retour le 28.
URL:https://reneesevigny.com/event/propos-du-mercredi/2029-09-05/
LOCATION:YouTube
CATEGORIES:Propos du mercredi
ATTACH;FMTTYPE=image/jpeg:https://reneesevigny.com/wp-content/uploads/2025/10/493990279_1240596014740736_6828849181878443476_n.jpg
ORGANIZER;CN="Renee Sevigny Medium Clairvoyante":MAILTO:info@reneesevigny.com
END:VEVENT
BEGIN:VEVENT
DTSTART;TZID=America/New_York:20290919T130000
DTEND;TZID=America/New_York:20290919T140000
DTSTAMP:20260420T154646
CREATED:20251214T210328Z
LAST-MODIFIED:20260119T221429Z
UID:10001909-1884517200-1884520800@reneesevigny.com
SUMMARY:Propos du mercredi
DESCRIPTION:À Chaque nouvelle et pleine lune\, le mercredi précédent ou suivant à 13 heures\, je ferai une vidéo en direct sur ma page  YouTube – https://www.youtube.com/@reneesevigny \nBienvenue à tous\,\nJ’espère que vous serez nombreux à me laisser des commentaires sur Facebook et YouTube.\nDe retour le 28.
URL:https://reneesevigny.com/event/propos-du-mercredi/2029-09-19/
LOCATION:YouTube
CATEGORIES:Propos du mercredi
ATTACH;FMTTYPE=image/jpeg:https://reneesevigny.com/wp-content/uploads/2025/10/493990279_1240596014740736_6828849181878443476_n.jpg
ORGANIZER;CN="Renee Sevigny Medium Clairvoyante":MAILTO:info@reneesevigny.com
END:VEVENT
END:VCALENDAR